BEGIN:VCALENDAR
PRODID:-//TYPO3/NONSGML News system (news)//EN
VERSION:2.0
BEGIN:VEVENT
UID:news-81147@www.die-linke.de
TZID:Europe/Berlin
DTSTAMP:20210323T072009Z
DTSTART;VALUE=DATE-TIME;TZID=Europe/Berlin:20210330T110000
SUMMARY:Wer schreibt, der bleibt
DESCRIPTION:Online-Workshop der Reihe "Super Tuesday"\n\nSchreiben ist das Einfache, das schwer zu machen ist. Ob Flyer, Pressemeldung oder Facebook-Post: Texte müssen leicht verständlich und gut lesbar sein. In diesem Seminar wollen wir gemeinsam gute Texte produzieren. Wir werden zudem darüber sprechen, warum die deutsche Sprache das einfache Schreiben so schwer macht. Denn wer die Fallstricke kennt, der stolpert nicht mehr. | zur Anmeldung
END:VEVENT
END:VCALENDAR