BEGIN:VCALENDAR
PRODID:-//TYPO3/NONSGML News system (news)//EN
VERSION:2.0
BEGIN:VEVENT
UID:news-81148@www.die-linke.de
TZID:Europe/Berlin
DTSTAMP:20210115T113222Z
DTSTART;VALUE=DATE-TIME;TZID=Europe/Berlin:20210316T180000
SUMMARY:Weit und breit nur Felder und Kühe? Wahlkampf im ländlichen Raum
DESCRIPTION:Online-Workshop der Reihe "Super Tuesday"\n\nWahlkämpfen auf dem Land ist nicht leicht: dünne Besiedelung, lange Wege, schlecht ausgebauter Nahverkehr, häufig langsames Internet. Doch es ist möglich. Gemeinsam besprechen wir, wie wir auch im ländlichen Raum Wähler*innen und Aktive gewinnen können – und den Enthusiasmus im Wahlkampf beibehalten.\nReferent*in: Bereich Kampagnen und Parteientwicklung (DIE LINKE BGSt)\nweitere Informationen | zur Anmeldung
END:VEVENT
END:VCALENDAR