BEGIN:VCALENDAR
PRODID:-//TYPO3/NONSGML News system (news)//EN
VERSION:2.0
BEGIN:VEVENT
UID:news-82343@www.die-linke.de
TZID:Europe/Berlin
DTSTAMP:20210527T080508Z
DTSTART;VALUE=DATE-TIME;TZID=Europe/Berlin:20210605T100000
DTEND;VALUE=DATE-TIME;TZID=Europe/Berlin:20210605T163000
SUMMARY:Wahlkämpfe planen und gewinnen – Nordrhein-Westfalen
DESCRIPTION:Online-Seminar für Kreiswahlkampfleiter, Mitgliederverantwortliche und Aktive in Kreisvorständen und Wahlkampfteams\n\nAnmeldungen erfolgen über die Landesgeschäftsstelle
END:VEVENT
END:VCALENDAR