BEGIN:VCALENDAR
PRODID:-//TYPO3/NONSGML News system (news)//EN
VERSION:2.0
BEGIN:VEVENT
UID:news-82152@www.die-linke.de
TZID:Europe/Berlin
DTSTAMP:20210416T074148Z
DTSTART;VALUE=DATE-TIME;TZID=Europe/Berlin:20210424T100000
SUMMARY:Wahlkämpfe planen und gewinnen – Mecklenburg-Vorpommern
DESCRIPTION:Online-Seminar für Kreiswahlkampfleiter, Mitgliederverantwortliche und Aktive in Kreisvorständen und Wahlkampfteams\n\nAnmeldungen erfolgen über die Landesgeschäftsstelle
END:VEVENT
END:VCALENDAR