BEGIN:VCALENDAR
PRODID:-//TYPO3/NONSGML News system (news)//EN
VERSION:2.0
BEGIN:VEVENT
UID:news-81169@www.die-linke.de
TZID:Europe/Berlin
DTSTAMP:20210115T113559Z
DTSTART;VALUE=DATE-TIME;TZID=Europe/Berlin:20210511T200000
SUMMARY:Unterwegs für die Sache: Mobile Reporting
DESCRIPTION:Online-Workshop der Reihe "Super Tuesday"\n\nOb als lustige Werbebotschaft, spannendes Interview oder informative Doku – Bewegtbilder werden immer beliebter und in der Öffentlichkeitsarbeit mehr und mehr genutzt. Schon mit dem Smartphone lassen sich Online-Videos produzieren, die für Webseiten genutzt oder in den sozialen Medien verbreitet werden können. Wie setzen wir das Smartphone richtig ein, um professionellen Content zu erstellen? Im Workshop lernt ihr alle wichtigen Erfordernisse an Technik, Gestaltung und Storytelling kennen, die du als Mobile Reporter brauchst.\nReferent: Julien Then (DIE LINKE BGSt)
END:VEVENT
END:VCALENDAR