BEGIN:VCALENDAR
PRODID:-//TYPO3/NONSGML News system (news)//EN
VERSION:2.0
BEGIN:VEVENT
UID:news-81149@www.die-linke.de
TZID:Europe/Berlin
DTSTAMP:20210115T113255Z
DTSTART;VALUE=DATE-TIME;TZID=Europe/Berlin:20210323T110000
SUMMARY:Twitter, fb, Insta & Co. – kleines Einmaleins der Social Media
DESCRIPTION:Online-Workshop der Reihe "Super Tuesday"\n\nWie nutzen wir Twitter, Facebook, Instagram oder Messenger-Dienste für die politische Arbeit? Wie kreieren wir unsere Sharepics, Videos und Tweets so, dass unsere Botschaften auch wirklich ankommen? Das ist der Schwerpunkt dieses Social-Media-Workshops, der natürlich auch im Zeichen der kommenden Wahlen steht.\nReferent: Stefan Paul (Bundesgeschäftsstelle DIE LINKE, BGSt)\nweitere Informationen | zur Anmeldung
END:VEVENT
END:VCALENDAR