BEGIN:VCALENDAR
PRODID:-//TYPO3/NONSGML News system (news)//EN
VERSION:2.0
BEGIN:VEVENT
UID:news-80118@www.die-linke.de
TZID:Europe/Berlin
DTSTAMP:20210115T113039Z
DTSTART;VALUE=DATE:20201024
SUMMARY:Seminar für Direktkandidaten in Rheinland-Pfalz (Online)
DESCRIPTION:Seminar mit Schwerpunkt auf dem Erproben von Gesprächs- und Wahlkampfsituationen.\n\nDie Kandidatinnen und Kandidaten zur Landtagswahl in Rheinland-Pfalz sind unsere Gesichter in den Wahlkreisen. Das ist eine verantwortungsvolle, Freude bringende, aber auch herausfordernde Aufgabe. In diesem Tagesseminar üben wir daher Gespräche mit den Wählerinnen und Wählern zu führen, um so schlagfertig und selbstsicher wie möglich unseren Wahlkampf zu bestreiten. Wie reagieren wir auf Anwürfe und Vorurteile? Wie können wir möglichst kurz und bündig unsere Botschaft vermitteln? Auf was müssen wir im Eins-zu-Eins-Gespräch mit den Wählerinnen und Wählern achten? Und was macht eine gute Öffentlichkeitsarbeit aus? Während dieses Seminars liegt der Schwerpunkt auf dem Erproben von Gesprächs- und Wahlkampfsituationen.\nTermin: 24. Oktober 10-18 Uhr (mit Pausen)\nAnmeldung: denis.jundt@die-linke-rlp.de\nAnmeldung wie folgt: Name, Telefonnummer, Direktkandidat für Wahlkreis ..., Position im Kreisverband,\nAnmeldeschluss: 22. Oktober 2020\nDas Seminar findet via Zoom statt und richtet sich an LINKE-Mitglieder in Rheinland-Pfalz.
END:VEVENT
END:VCALENDAR