BEGIN:VCALENDAR
PRODID:-//TYPO3/NONSGML News system (news)//EN
VERSION:2.0
BEGIN:VEVENT
UID:news-79827@www.die-linke.de
TZID:Europe/Berlin
DTSTAMP:20210115T113039Z
DTSTART;VALUE=DATE-TIME;TZID=Europe/Berlin:20200926T105400
SUMMARY:Vorstände-Seminar Brandenburg - Das ABC der Kreisvorstandsarbeit
DESCRIPTION:26. und 27. September 2020 in der EJB Werbellinsee\n\nDas politische Leben der Mitglieder der LINKEN findet in den vielen Kreis- und Ortsverbänden, in Basisorganisationen sowie in Bundes- und Landesarbeitsgemeinschaften statt. Besonders wichtig für Brandenburg jedoch sind Kreisvorstände und Ortsvorstände, denn hier wird ein großer Teil der politischen Arbeit vor Ort geplant, organisiert und finanziert.\nVon Mitgliederversammlungen, über Wahlkämpfe, von Finanzen und Öffentlichkeitsarbeit, bis hin zur Mitgliederentwicklung sind die Vorstände für eine große Zahl an politischen Arbeitsfeldern verantwortlich. Schnell kann einem da der Kopf rauchen und man spult die anstehenden Termine und Sitzungen einfach ab.\nWir wollen uns deshalb in einem zweitägigen Seminar damit beschäftigen, wie wir unsere Kreis- bzw. Ortsvorstandsarbeit sinnvoll gestalten können, welche Aufgaben wir bewältigen müssen und wie wir zielgerichtet und effektiv die politische Arbeit des Kreisverbandes voranbringen können. Das Seminar soll so zur Weiterentwicklung der lokalen Parteistrukturen beitragen und die politische Arbeit für alle Genoss*innen attraktiver machen.\nAuf dem Seminar wollen wir uns daher folgenden Fragen widmen:\n 	Welche Rollen, Aufgaben und Funktionen im Kreisvorstand gibt es? Wie ist das Verhältnis zu anderen Parteigliederungen? 	Wie gestaltet sich eine politische Jahresplanung und Schwerpunktsetzung? Wie können wir politische Bildungsarbeit stärken? 	Wie können wir Elemente einer aktiven Mitgliederpartei stärken, die stetig Mitglieder einbindet, sie mobilisiert und eine aktive Parteikultur auch zwischen den Wahlkämpfen fördert? 	Wie können wir neue Mitglieder gewinnen und die Partei breiter in der Gesellschaft verankern? 	Wie können wir digitale Kommunikation im Parteialltag verankern? \nFür wen? Das Seminar richtet sich sowohl an Neulinge, die sich einen Überblick über die Arbeit im Kreisvorstand verschaffen wollen, als auch an routinierte Genossinnen und Genossen, die neue Impulse aufschnappen wollen.\nWer? Das Seminar richtet die Bundesgeschäftsstelle der LINKEN in Kooperation mit dem Landesverband Brandenburg aus.\nWann und wo? 26. September 10:30 Uhr bis 27. September 15 Uhr in der EJB Werbellinsee, Joachimsthaler Str. 20, 16247 Joachimsthal.\nAnmeldung und Rückfragen: m.guenther@dielinke-barnim.de\nAnmeldeschluss ist der 4. September 2020.\nTeilnahme, Übernachtung und Verpflegung sind kostenlos. Die Anmeldung ist verbindlich.
END:VEVENT
END:VCALENDAR