BEGIN:VCALENDAR
PRODID:-//TYPO3/NONSGML News system (news)//EN
VERSION:2.0
BEGIN:VEVENT
UID:news-79852@www.die-linke.de
TZID:Europe/Berlin
DTSTAMP:20210115T113039Z
DTSTART;VALUE=DATE-TIME;TZID=Europe/Berlin:20200920T110000
SUMMARY:Seminar für Kandidatinnen und Kandidaten in BaWü
DESCRIPTION:Karl-Kloß Jugendbildungsstätte e.V., Stuttgart, 11-17 Uhr\n\nDie Kandidatinnen und Kandidaten zur Landtagswahl in Baden-Württemberg sind unsere Gesichter in den Wahlkreisen. Das ist eine ehrenvolle, Freude bringende, aber auch herausfordernde Aufgabe. In diesem Tagesseminar üben wir daher Gespräche mit den Wählerinnen und Wählern zu führen, um so schlagfertig und selbstsicher wie möglich unseren Wahlkampf zu bestreiten. Wie reagieren wir auf Anwürfe und Vorurteile? Wie können wir möglichst kurz und bündig unsere Botschaft vermitteln? Auf was müssen wir im Eins-zu-Eins-Gespräch mit den Wählerinnen und Wählern achten? Und was macht eine gute Öffentlichkeitsarbeit aus? Während dieses Seminars liegt der Schwerpunkt auf dem Erproben von Gesprächs- und Wahlkampfsituationen.\nHinweis: Die Veranstaltung richtet sich an Teilnehmerinnen und Teilnehmer aus Baden-Württemberg.
END:VEVENT
END:VCALENDAR