BEGIN:VCALENDAR
PRODID:-//TYPO3/NONSGML News system (news)//EN
VERSION:2.0
BEGIN:VEVENT
UID:news-81150@www.die-linke.de
TZID:Europe/Berlin
DTSTAMP:20210115T113159Z
DTSTART;VALUE=DATE-TIME;TZID=Europe/Berlin:20210309T200000
SUMMARY:Offene Wahlkampftreffen organisieren – den Wahlkampf auf mehr Schultern verteilen
DESCRIPTION:Online-Workshop der Reihe "Super Tuesday"\n\nWahlkampf macht Spaß aber ist auch Stress. Oftmals tragen wenige Aktive die viele Arbeit weg und ärgern sich über die geringe Beteiligung. Das muss nicht so sein. Wir zeigen dir wie du neue Leute einbindest um Verantwortung auf Aufgaben sinnvoll zu verteilen. Je mehr Menschen aktiv mitmachen, desto besser wird euer Wahlergebnis ausfallen. Tools und Leitfäden werden zur Verfügung gestellt. Diese Online-Veranstaltung richtet sich an Mitgliederverantwortliche, Campaigner*innen, Mitglieder von Kreis- und Landesvorständen sowie Aktive in den lokalen Wahlkampfstrukturen.\nReferent*in: Bereich Kampagnen und Parteientwicklung (DIE LINKE BGSt)\nweitere Informationen | zur Anmeldung
END:VEVENT
END:VCALENDAR