BEGIN:VCALENDAR
PRODID:-//DIELINKE/NONSGML News system (news)//DE
VERSION:2.0
BEGIN:VEVENT
UID:news-88101@www.die-linke.de
TZID:Europe/Berlin
DTSTAMP:20260422T091824Z
DTSTART;VALUE=DATE-TIME;TZID=Europe/Berlin:20260601T190000
DTEND;VALUE=DATE-TIME;TZID=Europe/Berlin:20260601T210000
SUMMARY:„Zukunft vorstellen, politisch handeln: Die Rolle von Utopien für gesellschaftliche Veränderungen“
DESCRIPTION:Modul: Basis
Pfeiler: Bildner*in\n\nFormat: Interaktiver Vortag mit einer Kleingruppenphase (circa 15min) in Breakouträumen.\nInhalt: Was sind Utopien, warum brauchen wir sie und wie können sie politisches Handeln inspirieren? Die Veranstaltung bietet einen verständlichen Einstieg in die Frage, welche Rolle Zukunftsvorstellungen und Visionen für politisches Denken und Handeln spielen.\nHinweis zur Teilnahme: Unsere Bildungsveranstaltungen richten sich speziell an unsere Parteimitglieder. Du möchtest auch teilnehmen? Mach mit bei der Linken und entdecke unser Bildungsangebot.\nZur Anmeldung\n 
END:VEVENT
END:VCALENDAR