BEGIN:VCALENDAR
PRODID:-//DIELINKE/NONSGML News system (news)//DE
VERSION:2.0
BEGIN:VEVENT
UID:news-88093@www.die-linke.de
TZID:Europe/Berlin
DTSTAMP:20260422T091554Z
DTSTART;VALUE=DATE-TIME;TZID=Europe/Berlin:20260511T180000
DTEND;VALUE=DATE-TIME;TZID=Europe/Berlin:20260511T200000
SUMMARY:Wie Natur, Gesellschaft und Wirtschaft zusammenhängen
DESCRIPTION:Modul: Basis
Pfeiler: Bildner*in\n\nFormat: Interaktiver Vortrag  mit einer Kleingruppenphase (15min) zum Austausch im kleineren Rahmen. Der Fokus liegt auf einem gemeinsamen Erarbeiten, Diskutieren und Einordnen der Inhalte.\nInhalt: Natur erscheint oft als etwas „Gegebenes“ - doch wie wir sie wahrnehmen und nutzen, ist gesellschaftlich geprägt. Im Workshop fragen wir uns: Was ist Natur? Was  ist das Verhältnis von Natur und Wirtschaft? Wie wird Natur im Kapitalismus zur Ressource? Warum entstehen ökologische Krisen immer wieder? Und was hat das mit unserer Wirtschaftsweise und dem Klima zu tun?\nAusgehend von diesen Fragen entwickeln wir gemeinsam ein grundlegendes Verständnis dafür, wie Natur, Gesellschaft und Wirtschaft miteinander verwoben sind. Ziel ist es, einen Einstieg in grundlegende Zusammenhänge zu ermöglichen und eine Basis zu schaffen, um aktuelle Debatten wie etwa um Klimakrise und Transformation besser einordnen zu können.\nHinweis zur Teilnahme: Unsere Bildungsveranstaltungen richten sich speziell an unsere Parteimitglieder. Du möchtest auch teilnehmen? Mach mit bei der Linken und entdecke unser Bildungsangebot.\nZur Anmeldung
END:VEVENT
END:VCALENDAR