BEGIN:VCALENDAR
PRODID:-//DIELINKE/NONSGML News system (news)//DE
VERSION:2.0
BEGIN:VEVENT
UID:news-88095@www.die-linke.de
TZID:Europe/Berlin
DTSTAMP:20260422T091105Z
DTSTART;VALUE=DATE-TIME;TZID=Europe/Berlin:20260706T180000
DTEND;VALUE=DATE-TIME;TZID=Europe/Berlin:20260706T210000
SUMMARY:Wer produziert, wer reproduziert? Intersektionale Perspektiven auf Geschlecht, Klasse und race 
DESCRIPTION:Modul: Aufbau
Pfeiler: Bildner*in\n\nInhalt:\nIm Anschluss an grundlegende Überlegungen zur kapitalistischen Unterscheidung von Produktion und Reproduktion sowie zur Bedeutung von Geschlechterrollen und Geschlechterstereotypen vertieft dieses Aufbauseminar die Analyse gegenwärtiger gesellschaftlicher Verhältnisse aus marxistischer-feministischer Perspektive. Im Fokus steht die Frage, wie sich Produktions- und Reproduktionsverhältnisse im globalen Kapitalismus ausformen und welche Rolle Geschlecht, Klasse und Rassismus dabei spielen.\nAnhand aktueller Entwicklungen wie Global-Care-Chains und transnationaler Arbeitsteilung wird gezeigt, wie Reproduktionsarbeit entlang sozialer Ungleichheiten organisiert wird. In diesem Zusammenhang werden vor allem die Grenzen eines weißen Feminismus diskutiert und eine intersektionale Perspektive angeboten.\nFormat: Interaktiver Workshop mit kurzen Vortägen, sowie Austausch- und Erarbeitungphasen in Kleingruppen (Break-out-Sessions).\nHinweis zur Teilnahme: Unsere Bildungsveranstaltungen richten sich speziell an unsere Parteimitglieder. Du möchtest auch teilnehmen? Mach mit bei der Linken und entdecke unser Bildungsangebot.\nZur Anmeldung
END:VEVENT
END:VCALENDAR