BEGIN:VCALENDAR
PRODID:-//DIELINKE/NONSGML News system (news)//DE
VERSION:2.0
BEGIN:VEVENT
UID:news-88037@www.die-linke.de
TZID:Europe/Berlin
DTSTAMP:20260420T113121Z
DTSTART;VALUE=DATE-TIME;TZID=Europe/Berlin:20260427T180000
DTEND;VALUE=DATE-TIME;TZID=Europe/Berlin:20260427T200000
SUMMARY:Was heißt eigentlich antifaschistische Politik?
DESCRIPTION:Die Linke ist eine antifaschistische Partei. Aber was heißt das konkret? Wir möchten uns gemeinsam darüber austauschen, welche Handlungsfelder es für antifaschistische Politik gibt und was Die Linke tun kann. Für diese Veranstaltung ist kein Vorwissen erforderlich: Ihr habt Interesse, euch weiterzubilden und mit Genoss*innen ins Gespräch zu kommen – dann seid ihr hier genau richtig.\nInputs: Thomas Goes und Kerstin Köditz. Moderation: Anika Taschke.\nNach den Inputs wird es Austausch in Kleingruppen geben. Wir möchten euch zudem herzlich einladen, eine Watchparty zu organisieren. Wenn ihr diese Umfrage ausfüllt, bekommt ihr weitere Informationen dazu: https://app.zetkin.die-linke.de/o/2/surveys/3835
END:VEVENT
END:VCALENDAR