BEGIN:VCALENDAR
PRODID:-//DIELINKE/NONSGML News system (news)//DE
VERSION:2.0
BEGIN:VEVENT
UID:news-88079@www.die-linke.de
TZID:Europe/Berlin
DTSTAMP:20260422T091001Z
DTSTART;VALUE=DATE-TIME;TZID=Europe/Berlin:20260708T180000
DTEND;VALUE=DATE-TIME;TZID=Europe/Berlin:20260708T200000
SUMMARY:Wahlarenen, Bürgerdialoge, Interviews und Podien: Training für Kandidat*innen
DESCRIPTION:Modul: Basis
Pfeiler: Kandidat*in\n\nVeranstaltungsbeschreibung folgt.\n\nHinweis zur Teilnahme: Unsere Bildungsveranstaltungen richten sich speziell an unsere Parteimitglieder. Du möchtest auch teilnehmen? Mach mit bei der Linken und entdecke unser Bildungsangebot.\nZur Anmeldung
END:VEVENT
END:VCALENDAR