BEGIN:VCALENDAR
PRODID:-//DIELINKE/NONSGML News system (news)//DE
VERSION:2.0
BEGIN:VEVENT
UID:news-88078@www.die-linke.de
TZID:Europe/Berlin
DTSTAMP:20260422T090859Z
DTSTART;VALUE=DATE-TIME;TZID=Europe/Berlin:20260715T100000
DTEND;VALUE=DATE-TIME;TZID=Europe/Berlin:20260715T120000
SUMMARY:Vorstellung von Zetkin: die Plattform zur Organisierung vor Ort 
DESCRIPTION:Modul: Basis
Pfeiler: Planer*in\n\nHinweis zur Teilnahme: Unsere Bildungsveranstaltungen richten sich speziell an unsere Parteimitglieder. Du möchtest auch teilnehmen? Mach mit bei der Linken und entdecke unser Bildungsangebot.\nZur Anmeldung
END:VEVENT
END:VCALENDAR