BEGIN:VCALENDAR
PRODID:-//DIELINKE/NONSGML News system (news)//DE
VERSION:2.0
BEGIN:VEVENT
UID:news-88097@www.die-linke.de
TZID:Europe/Berlin
DTSTAMP:20260422T090928Z
DTSTART;VALUE=DATE-TIME;TZID=Europe/Berlin:20260713T180000
DTEND;VALUE=DATE-TIME;TZID=Europe/Berlin:20260713T210000
SUMMARY:Transformationsmodelle im Vergleich: Grüner Kapitalismus, Degrowth und Ökosozialismus
DESCRIPTION:Modul: Vertiefung
Pfeiler: Bildner*in\n\nFormat: Interaktiver Workshop mit Kurzvorträgen, sowie Kleingruppenphasen in Breakout-Räumen, in denen Inhalte selbst erarbeitet, diskutiert  und reflektiert werden, sowie gemeinsamer Auswertung im Plenum.\nInhalt: Im Workshop beschäftigen wir uns mit unterschiedlichen gesellschaftlichen Antworten auf die Klimakrise und die Frage, wie eine sozial-ökologische  Transformation aussehen kann. Im Zentrum steht der Vergleich verschiedener Transformationsmodelle: grüner Kapitalismus, Degrowth und Ökosozialismus.\nGemeinsam erarbeiten wir, welche Grundannahmen diesen Ansätzen zugrunde liegen, wie sie Wachstum, Produktion und soziale Gerechtigkeit verstehen und wo zentrale Unterschiede und Konfliktlinien liegen.\nDer Workshop bietet Raum für Diskussion und gemeinsame Einordnung der verschiedenen Positionen und versteht sich als Vertiefung zentraler Debatten um Klimagerechtigkeit und sozial-ökologische Transformation.\nHinweis zur Teilnahme: Unsere Bildungsveranstaltungen richten sich speziell an unsere Parteimitglieder. Du möchtest auch teilnehmen? Mach mit bei der Linken und entdecke unser Bildungsangebot.\nZur Anmeldung
END:VEVENT
END:VCALENDAR