BEGIN:VCALENDAR
PRODID:-//DIELINKE/NONSGML News system (news)//DE
VERSION:2.0
BEGIN:VEVENT
UID:news-88098@www.die-linke.de
TZID:Europe/Berlin
DTSTAMP:20260422T090732Z
DTSTART;VALUE=DATE-TIME;TZID=Europe/Berlin:20260504T180000
DTEND;VALUE=DATE-TIME;TZID=Europe/Berlin:20260504T200000
SUMMARY:Staaten im internationalen System – eine Einführung
DESCRIPTION:Modul: Basis 
Pfeiler: Bildner*in\n\nFormat:  Interaktiver Vortrag und gemeinsamen Austauschphasen im Plenum und in Kleingruppen (circa 15min in Breakout-Sessions).\nInhalt: Wenn wir über Weltpolitik sprechen, geht es meist um Staaten – aber was macht einen Staat eigentlich aus? Und, wie funktioniert das internationale System, in dem Staaten miteinander in Beziehung stehen? Anhand einfacher Beispiele erarbeiten wir gemeinsam zentrale Begriffe und Zusammenhänge der internationalen Politik. Ziel ist es, ein erstes Verständnis dafür zu entwickeln, wie das internationale System aufgebaut ist und wie Staaten darin agieren.Der Workshop richtet sich an Menschen ohne Vorkenntnisse und bietet einen niedrigschwelligen Einstieg in das Thema. Es gibt Raum für Fragen, Austausch und erste eigene Einordnungen.\nHinweis zur Teilnahme: Unsere Bildungsveranstaltungen richten sich speziell an unsere Parteimitglieder. Du möchtest auch teilnehmen? Mach mit bei der Linken und entdecke unser Bildungsangebot.\nZur Anmeldung
END:VEVENT
END:VCALENDAR