BEGIN:VCALENDAR
PRODID:-//DIELINKE/NONSGML News system (news)//DE
VERSION:2.0
BEGIN:VEVENT
UID:news-81430@www.die-linke.de
TZID:Europe/Berlin
DTSTAMP:20210203T140648Z
DTSTART;VALUE=DATE-TIME;TZID=Europe/Berlin:20210210T193000
SUMMARY:Sicherer Hafen Baden Württemberg?!
DESCRIPTION:Mit Seán McGinley (Leiter der Geschäftsstelle des Flüchtlingsrates BW) und Anil Besli (Landtagskandidat für DIE LINKE im Wahlkreis Nürtingen)\n\nOnline-Veranstaltung am Mittwoch, den 10. Februar, um 19:30 Uhr live auf Facebook und Zoom.\nGeflüchtete Menschen an den EU-Außengrenzen harren noch immer in menschenunwürdigen, nicht winterfesten Lagern zum Beispiel auf den griechischen Inseln aus. Corona ist dort nur eine Sorge von vielen. Diesen Menschen muss unbedingt geholfen werden, in dem wir sie menschenwürdig unterbringen. Gleiches gilt natürlich auch für geflüchtete Menschen hier in Baden-Württemberg.“\nSo äußerte sich Seán McGinley (Leiter der Geschäftsstelle des Flüchtlingsrates BW) im Rahmen einer Aktion des Bündnisses „Sicherer Hafen Baden-Württemberg“ hinsichtlich der Situation von Geflüchteten in und außerhalb der Grenzen Europas.\nVor diesem Hintergrund wird Seán McGinley darüber berichten, wie die Bilanz der Baden-Württembergischen Flüchtlings- und Migrationspolitik in den letzten Jahren aussieht. Aber auch die Handlungsspielräume auf Landesebene, die zu einer Verbesserungen im Sinne eines menschlichen Umgangs mit Geflüchteten beitragen könnten, sollen beleuchtet werden.\nAnschließend ist eine offene Diskussionsrunde mit Seán McGinley und unserem Landtagskandidat Anil Besli (DIE LINKE Wahlkreis Nürtingen) geplant. Als Moderator begrüßt euch Patrick Frey, Ortsvorstand von DIE LINKE Esslingen.\nSeán McGinley ist Politikwissenschaftler, Soziologe, Historiker und Leiter der Geschäftsstelle des Flüchtlingsrats Baden-Württemberg in Stuttgart. Im Zuge seiner Arbeit für den Flüchtlingsrat BW koordiniert er unter anderem die Kampagne „Sicherer Hafen Baden-Württemberg“, welche gemeinsam mit der Seebrücke ins Leben gerufen wurde.\nAnil Besli ist Landtagskandidat für DIE LINKE im Wahlkreis Nürtingen. Neben seiner parteipolitischen Tätigkeit im Kreisvorstand ist er zudem in mehreren zivilgesellschaftlichen Organisationen aktiv, welche sich gegen Rassismus und Rechtsextremismus einsetzen.
END:VEVENT
END:VCALENDAR