BEGIN:VCALENDAR
PRODID:-//DIELINKE/NONSGML News system (news)//DE
VERSION:2.0
BEGIN:VEVENT
UID:news-88072@www.die-linke.de
TZID:Europe/Berlin
DTSTAMP:20260422T091213Z
DTSTART;VALUE=DATE-TIME;TZID=Europe/Berlin:20260629T180000
DTEND;VALUE=DATE-TIME;TZID=Europe/Berlin:20260629T200000
SUMMARY:Revolutionäre Realpolitik: Grenzen und Möglichkeiten linker Kommunalpolitik
DESCRIPTION:Modul: Aufbau
Pfeiler: Bildner*in\n\nFormat: Interaktiver Vortrag mit Diskussionsfragen zum Austausch im Plenum\nInhalt: Dieses Onlineseminar beleuchtet zunächst die Besonderheiten der kommunalen Ebene – von den politischen Akteuren über zentrale Handlungsfelder bis hin zu aktuellen Herausforderungen. Ein Schwerpunkt liegt dabei auf Rosa Luxemburgs Begriff der „revolutionären Realpolitik“. Damit ihr dieses Wissen direkt weitergeben könnt, erhaltet ihr im Anschluss fertige Bildungsmaterialien für die Gestaltung eines eigenen Themenabends in eurem Kreisverband.\nHinweis zur Teilnahme: Unsere Bildungsveranstaltungen richten sich speziell an unsere Parteimitglieder. Du möchtest auch teilnehmen? Mach mit bei der Linken und entdecke unser Bildungsangebot.\nZur Anmeldung
END:VEVENT
END:VCALENDAR