BEGIN:VCALENDAR
PRODID:-//DIELINKE/NONSGML News system (news)//DE
VERSION:2.0
BEGIN:VEVENT
UID:news-88087@www.die-linke.de
TZID:Europe/Berlin
DTSTAMP:20260422T091243Z
DTSTART;VALUE=DATE-TIME;TZID=Europe/Berlin:20260624T180000
DTEND;VALUE=DATE-TIME;TZID=Europe/Berlin:20260624T200000
SUMMARY:Recht haben vs. Recht bekommen: Eine Einführung in die Rhetorik
DESCRIPTION:Modul: Aufbau
Pfeiler: Bildner*in\n\nFormat: Seminar  mit gemeinsamen Arbeitsphasen. Der Fokus liegt aufs Verstehen und Üben der Inhalte.\nInhalt: In der politischen Debatte reicht es oft nicht aus, die Wahrheit auf deiner Seite zu haben. Frei nach Arthur Schopenhauers „Eristischer Dialektik“ lernst du in diesem Seminar, dass der Sieg im Wortgefecht oft auch etwas mit Strategie zu tun hat. Wir wollen gemeinsam ergründen, wie du dich gegen unfaire Kniffe behauptest und deine Position gut vertreten kannst. Du erfährst, wie du rhetorische Mittel gezielt erkennst und vielleicht sogar selbst einsetzen kannst, um im politischen Alltag inhaltlich und redegewandt recht zu bekommen.\nHinweis zur Teilnahme: Unsere Bildungsveranstaltungen richten sich speziell an unsere Parteimitglieder. Du möchtest auch teilnehmen? Mach mit bei der Linken und entdecke unser Bildungsangebot.\nZur Anmeldung
END:VEVENT
END:VCALENDAR