BEGIN:VCALENDAR
PRODID:-//DIELINKE/NONSGML News system (news)//DE
VERSION:2.0
BEGIN:VEVENT
UID:news-88088@www.die-linke.de
TZID:Europe/Berlin
DTSTAMP:20260422T090948Z
DTSTART;VALUE=DATE-TIME;TZID=Europe/Berlin:20260709T180000
DTEND;VALUE=DATE-TIME;TZID=Europe/Berlin:20260709T200000
SUMMARY:Partei ergreifen gegen Rechts: Einführung in Faschismustheorien
DESCRIPTION:Modul: Basis
Pfeiler: Bildner*in\n\nFormat: Interaktiver Vortrag  mit  Diskussionsfragen zum Austausch im kleineren Rahmen. Der Fokus liegt auf einem gemeinsamen Verstehen, Diskutieren und Einordnen der Inhalte.\nInhalt: Dieser Vortrag bietet eine Einführung in marxistische Faschismustheorien und beleuchtet die historischen und aktuellen Diskussionen um den Begriff Faschismus. Doch wie genau analysieren diese Theorien die Entstehung, die Massenbasis und die soziale Funktion faschistischer Bewegungen?\nHinweis zur Teilnahme: Unsere Bildungsveranstaltungen richten sich speziell an unsere Parteimitglieder. Du möchtest auch teilnehmen? Mach mit bei der Linken und entdecke unser Bildungsangebot.\nZur Anmeldung
END:VEVENT
END:VCALENDAR