BEGIN:VCALENDAR
PRODID:-//DIELINKE/NONSGML News system (news)//DE
VERSION:2.0
BEGIN:VEVENT
UID:news-88091@www.die-linke.de
TZID:Europe/Berlin
DTSTAMP:20260422T091015Z
DTSTART;VALUE=DATE-TIME;TZID=Europe/Berlin:20260707T190000
DTEND;VALUE=DATE-TIME;TZID=Europe/Berlin:20260707T210000
SUMMARY:Organisierende Klassenpartei
DESCRIPTION:Modul: Aufbau
Pfeiler: Bildner*in\n\nVeranstaltungsbeschreibung folgt.\n\nHinweis zur Teilnahme: Unsere Bildungsveranstaltungen richten sich speziell an unsere Parteimitglieder. Du möchtest auch teilnehmen? Mach mit bei der Linken und entdecke unser Bildungsangebot.\nZur Anmeldung
END:VEVENT
END:VCALENDAR