BEGIN:VCALENDAR
PRODID:-//DIELINKE/NONSGML News system (news)//DE
VERSION:2.0
BEGIN:VEVENT
UID:news-88083@www.die-linke.de
TZID:Europe/Berlin
DTSTAMP:20260422T091531Z
DTSTART;VALUE=DATE-TIME;TZID=Europe/Berlin:20260506T180000
DTEND;VALUE=DATE-TIME;TZID=Europe/Berlin:20260506T200000
SUMMARY:Mit Geschichte in die Zukunft: Einführung in die Geschichte und Grundsätze unserer Partei
DESCRIPTION:Modul: Basis
Pfeiler: Bildner*in\n\nVeranstaltungsbeschreibung folgt\nHinweis zur Teilnahme: Unsere Bildungsveranstaltungen richten sich speziell an unsere Parteimitglieder. Du möchtest auch teilnehmen? Mach mit bei der Linken und entdecke unser Bildungsangebot.\nZur Anmeldung
END:VEVENT
END:VCALENDAR