BEGIN:VCALENDAR
PRODID:-//DIELINKE/NONSGML News system (news)//DE
VERSION:2.0
BEGIN:VEVENT
UID:news-88103@www.die-linke.de
TZID:Europe/Berlin
DTSTAMP:20260422T091807Z
DTSTART;VALUE=DATE-TIME;TZID=Europe/Berlin:20260528T180000
DTEND;VALUE=DATE-TIME;TZID=Europe/Berlin:20260528T200000
SUMMARY:Lesen mit System: Systematische Texterschließung für die politische Praxis
DESCRIPTION:Modul: Basis
Pfeiler: Bildner*in\n\nFormat: Ein gemeinsames Seminar am offenen Text. Der Fokus liegt auf der methodischen Aneignung: Wir üben direkt an Textbeispielen und besprechen Herausforderungen und Lösungsansätze.\nInhalt: Politische Bildung scheitert oft nicht am fehlenden Willen, sondern an der Hürde komplexer Texte. Wer die Welt nicht nur oberflächlich kritisieren, sondern begreifen will, sollte lernen, Texte systematisch zu verstehen. In dieser Veranstaltungen konzentrieren wir uns auf das Handwerk: Wie identifiziere ich die zentrale Argumentation eines Textes? Was sind Kategorien? Wie schlage ich Fremdwörter nach und identifiziere Schlüsselbegriffe? Oder anders gesagt: Wie lerne ich systematisch zu lesen?\nHinweis zur Teilnahme: Unsere Bildungsveranstaltungen richten sich speziell an unsere Parteimitglieder. Du möchtest auch teilnehmen? Mach mit bei der Linken und entdecke unser Bildungsangebot.\nZur Anmeldung
END:VEVENT
END:VCALENDAR