BEGIN:VCALENDAR
PRODID:-//DIELINKE/NONSGML News system (news)//DE
VERSION:2.0
BEGIN:VEVENT
UID:news-88075@www.die-linke.de
TZID:Europe/Berlin
DTSTAMP:20260422T091750Z
DTSTART;VALUE=DATE-TIME;TZID=Europe/Berlin:20260527T190000
DTEND;VALUE=DATE-TIME;TZID=Europe/Berlin:20260527T210000
SUMMARY:Kreisparteitage vorbereiten und leiten
DESCRIPTION:Modul: Basis
Pfeiler: Planer*in\n\nFormat: Interaktiver Vortrag mit einer Kleingruppenphase (circa 15 min) zum Austausch in kleinerem Rahmen.\nInhalt: Auf unseren Kreisparteitagen treffen wir als Kreisverbände die grundlegenden Entscheidungen für unsere Politik vor Ort: wir wählen Kreisvorstände und Kandidat*innen, wir entscheiden über die Gründungen von Ortsverbänden oder über unsere lokalen politischen Schwerpunkte.\nDamit solch ein Kreisparteitag ohne Probleme stattfindet und alles seinen gewohnten sozialistischen Gang geht, sollten sie gut vorbereitet und geleitet werden. In diesem Workshop für Einsteiger*innen erhältst du einen ersten Überblick, wie Kreisparteitage ablaufen und was du bei der Durchführung beachten solltest.\nHinweis zur Teilnahme: Unsere Bildungsveranstaltungen richten sich speziell an unsere Parteimitglieder. Du möchtest auch teilnehmen? Mach mit bei der Linken und entdecke unser Bildungsangebot.\nZur Anmeldung
END:VEVENT
END:VCALENDAR