BEGIN:VCALENDAR
PRODID:-//DIELINKE/NONSGML News system (news)//DE
VERSION:2.0
BEGIN:VEVENT
UID:news-88067@www.die-linke.de
TZID:Europe/Berlin
DTSTAMP:20260422T091721Z
DTSTART;VALUE=DATE-TIME;TZID=Europe/Berlin:20260521T123000
DTEND;VALUE=DATE-TIME;TZID=Europe/Berlin:20260521T143000
SUMMARY:Konflikte verstehen und bearbeiten
DESCRIPTION:Modul: Basis
Pfeiler: Planer*in\n\nFormat: Interaktiver Vortrag mit einer Kleingruppenphase (circa 15 min) zum Austausch in kleinerem Rahmen.\nInhalt: Wir kennen sie alle, da sie uns fast alltäglich begegnen -  auch im Parteialltag.  Konflikte sind zentraler Bestandteil menschlichen Miteinanders und können überall dort entstehen, wo Menschen mit unterschiedlichen Perspektiven, Interessen und Bedürfnissen aufeinandertreffen.\nDer Workshop vermittelt grundlegende Ansätze zur Konfliktanalyse, sowie Strategien zu einem produktiven Umgang mit ihnen. Konflikte werden nicht als etwas abzulehndes und schlechtes gedacht, sondern als Möglichkeit der Entwicklung und der Verbesserung des Miteinanders begriffen. \nHinweis zur Teilnahme: Unsere Bildungsveranstaltungen richten sich speziell an unsere Parteimitglieder. Du möchtest auch teilnehmen? Mach mit bei der Linken und entdecke unser Bildungsangebot.\nZur Anmeldung
END:VEVENT
END:VCALENDAR