BEGIN:VCALENDAR
PRODID:-//DIELINKE/NONSGML News system (news)//DE
VERSION:2.0
BEGIN:VEVENT
UID:news-88080@www.die-linke.de
TZID:Europe/Berlin
DTSTAMP:20260422T091316Z
DTSTART;VALUE=DATE-TIME;TZID=Europe/Berlin:20260622T180000
DTEND;VALUE=DATE-TIME;TZID=Europe/Berlin:20260622T200000
SUMMARY:Klar bleiben im Wahlkampf: Resilienz und Zeit im Griff
DESCRIPTION:Modul: Basis
Pfeiler: Kandidat*in\n\nVeranstaltungsbeschreibung folgt.\n\nHinweis zur Teilnahme: Unsere Bildungsveranstaltungen richten sich speziell an unsere Parteimitglieder. Du möchtest auch teilnehmen? Mach mit bei der Linken und entdecke unser Bildungsangebot.\nZur Anmeldung
END:VEVENT
END:VCALENDAR