BEGIN:VCALENDAR
PRODID:-//DIELINKE/NONSGML News system (news)//DE
VERSION:2.0
BEGIN:VEVENT
UID:news-88062@www.die-linke.de
TZID:Europe/Berlin
DTSTAMP:20260422T091051Z
DTSTART;VALUE=DATE-TIME;TZID=Europe/Berlin:20260706T183000
DTEND;VALUE=DATE-TIME;TZID=Europe/Berlin:20260706T203000
SUMMARY:Kandidieren leicht gemacht: Deine Rolle und wie du Unterstützung gewinnst
DESCRIPTION:Modul: Basis
Pfeiler: Kandidat*in\n\nDu bist oder wirst bald als Kandidatin für Die Linke und fragst dich: Was erwartet mich da eigentlich? Worauf sollte ich mich vorbereiten? Was erwarten mögliche Wähler*innen von mir und vielleicht auch meine eigene Partei? Und wie kann ich mir einen kleinen Kreis an Unterstützer*innen aufbauen, der mir Aufgaben abnimmt und mich darin begleitet? All diese Fragen wollen wir in diesem Workshop mit euch besprechen und euch Tipps und Hinweise geben, wie ihr gut vorbereitet in den Wahlkampf gehen könnt. Denn als Gesicht der Linken vor Ort prasseln viele Dinge gleichzeitig auf einen ein. Umso wichtiger eine kleine Crew um sich zu haben und die Aufgaben zusammen zu bewältigen.\nHinweis zur Teilnahme: Unsere Bildungsveranstaltungen richten sich speziell an unsere Parteimitglieder. Du möchtest auch teilnehmen? Mach mit bei der Linken und entdecke unser Bildungsangebot.\nZur Anmeldung
END:VEVENT
END:VCALENDAR