BEGIN:VCALENDAR
PRODID:-//DIELINKE/NONSGML News system (news)//DE
VERSION:2.0
BEGIN:VEVENT
UID:news-88068@www.die-linke.de
TZID:Europe/Berlin
DTSTAMP:20260422T091136Z
DTSTART;VALUE=DATE-TIME;TZID=Europe/Berlin:20260701T180000
DTEND;VALUE=DATE-TIME;TZID=Europe/Berlin:20260701T200000
SUMMARY:Je mehr, desto besser – strategische Mitgliederarbeit im Kreisverband
DESCRIPTION:Modul: Basis
Pfeiler: Planer*in\n\nVeranstaltungsbeschreibung folgt.Hinweis zur Teilnahme: Unsere Bildungsveranstaltungen richten sich speziell an unsere Parteimitglieder. Du möchtest auch teilnehmen? Mach mit bei der Linken und entdecke unser Bildungsangebot.\nZur Anmeldung
END:VEVENT
END:VCALENDAR