BEGIN:VCALENDAR
PRODID:-//DIELINKE/NONSGML News system (news)//DE
VERSION:2.0
BEGIN:VEVENT
UID:news-88071@www.die-linke.de
TZID:Europe/Berlin
DTSTAMP:20260422T091036Z
DTSTART;VALUE=DATE-TIME;TZID=Europe/Berlin:20260707T180000
DTEND;VALUE=DATE-TIME;TZID=Europe/Berlin:20260707T200000
SUMMARY:Haustüraktion anleiten – Tipps und Tricks
DESCRIPTION:Modul: Vertiefung
Pfeiler: Aktivist*in\n\nInhalt:\nDiese Schulung richtet sich an alle, die schon ein paar Mal an den Türen waren und jetzt mehr Verantwortung übernehmen wollen. Hier erfahrt ihr alles, was ihr braucht um Einsätze vor Ort durchzuführen. Welche Infrastruktur müsst ihr vorbereiten? Wie teilt ihr Gebiete zu? Wie schult ihr Leute vor ihrem Einsatz? Und ganz wichtig: Wie sorgt ihr für eine gute Stimmung und dafür, dass alle gut durch die Aktion kommen?\nHinweis zur Teilnahme: Unsere Bildungsveranstaltungen richten sich speziell an unsere Parteimitglieder. Du möchtest auch teilnehmen? Mach mit bei der Linken und entdecke unser Bildungsangebot.\nZur Anmeldung
END:VEVENT
END:VCALENDAR