BEGIN:VCALENDAR
PRODID:-//DIELINKE/NONSGML News system (news)//DE
VERSION:2.0
BEGIN:VEVENT
UID:news-88064@www.die-linke.de
TZID:Europe/Berlin
DTSTAMP:20260422T091543Z
DTSTART;VALUE=DATE-TIME;TZID=Europe/Berlin:20260507T100000
DTEND;VALUE=DATE-TIME;TZID=Europe/Berlin:20260507T120000
SUMMARY:Gute Treffen, schlechte Treffen – mit guter Moderation zu erfolgreichen Parteitreffen
DESCRIPTION:Modul: Basis
Pfeiler: Planer*in\n\nFormat: Interaktiver Vortrag mit einer Kleingruppenphase (circa 15min in Breakout-Sessions) zum Austausch in kleinerem Rahmen.\nInhalt: In diesem Workshop werden die Grundlagen der Moderation vermittelt. Welche moderativen „Kniffe“ helfen erfolgreich durch Parteitreffen zu begleiten? Was sind häufige Hindernisse und Herausforderungen und wie kann ich diese durch geeignete Moderation möglichst minimieren?\nMit diesen und weiteren Fragen, werden wir uns im Workshop beschäftigen und geimsam erörtern wie erfolgreiche Moderation im Kreisverband aussehen kann.\nHinweis zur Teilnahme: Unsere Bildungsveranstaltungen richten sich speziell an unsere Parteimitglieder. Du möchtest auch teilnehmen? Mach mit bei der Linken und entdecke unser Bildungsangebot.\nZur Anmeldung
END:VEVENT
END:VCALENDAR