BEGIN:VCALENDAR
PRODID:-//DIELINKE/NONSGML News system (news)//DE
VERSION:2.0
BEGIN:VEVENT
UID:news-88066@www.die-linke.de
TZID:Europe/Berlin
DTSTAMP:20260422T090815Z
DTSTART;VALUE=DATE-TIME;TZID=Europe/Berlin:20260721T180000
DTEND;VALUE=DATE-TIME;TZID=Europe/Berlin:20260721T200000
SUMMARY:Gespräche, die bewegen – Einführung in die Haustürarbeit
DESCRIPTION:Modul: Basis
Pfeiler: Aktivist*in\n\nInhalt:\nIhr wollt erfahren, wie ihr im Wahlkampf oder darüber hinaus effektive Gespräche führen könnt? In diesem Workshop lernt ihr die Grundlagen guter Gesprächsführung und erhaltet eine Einführung in die Planung und Durchführung von Haustüreinsätzen. Ihr erfahrt, wie ihr das Gespräch eröffnet, gute Fragen stellt und am Ende auch zum Punkt kommt. So geht ihr den ersten Schritt, euch langfristig in euren Nachbarschaften zu verankern.\nHinweis zur Teilnahme: Unsere Bildungsveranstaltungen richten sich speziell an unsere Parteimitglieder. Du möchtest auch teilnehmen? Mach mit bei der Linken und entdecke unser Bildungsangebot.\nZur Anmeldung
END:VEVENT
END:VCALENDAR