BEGIN:VCALENDAR
PRODID:-//DIELINKE/NONSGML News system (news)//DE
VERSION:2.0
BEGIN:VEVENT
UID:news-88102@www.die-linke.de
TZID:Europe/Berlin
DTSTAMP:20260422T091709Z
DTSTART;VALUE=DATE-TIME;TZID=Europe/Berlin:20260519T180000
DTEND;VALUE=DATE-TIME;TZID=Europe/Berlin:20260519T200000
SUMMARY:Einführung: Reform, Revolution, Transformation 
DESCRIPTION:Modul: Basis
Pfeiler: Bildner*in\n\nVeranstaltungsbeschreibung folgt\nHinweis zur Teilnahme: Unsere Bildungsveranstaltungen richten sich speziell an unsere Parteimitglieder. Du möchtest auch teilnehmen? Mach mit bei der Linken und entdecke unser Bildungsangebot.\nZur Anmeldung\n\n
END:VEVENT
END:VCALENDAR