BEGIN:VCALENDAR
PRODID:-//DIELINKE/NONSGML News system (news)//DE
VERSION:2.0
BEGIN:VEVENT
UID:news-88082@www.die-linke.de
TZID:Europe/Berlin
DTSTAMP:20260422T091733Z
DTSTART;VALUE=DATE-TIME;TZID=Europe/Berlin:20260521T180000
DTEND;VALUE=DATE-TIME;TZID=Europe/Berlin:20260521T200000
SUMMARY:Einführung in das Leben und Werk von Karl Marx und Friedrich Engels
DESCRIPTION:Modul: Basis
Pfeiler: Bildner*in\n\nFormat: Interaktiver Vortrag  mit  Diskussionsfragen zum Austausch. Der Fokus liegt auf einem gemeinsamen Verstehen, Diskutieren und Einordnen der Inhalte.\nInhalt: Aller Anfang ist nicht leicht. Und die Schriften von Karl Marx und Firedrich Engels sind sicherlich ein großer Schritt. In diesem Vortrag wollen wir erste Schritte wagen und das Leben und Werk der beiden Freunde einführend behandeln. Der Leitspruch der Aufklärung, den Mut zu haben, sich seines eigenen Verstandes zu bedienen, hat nichts an seiner Aktualität verloren. Ziel des Vortrages ist es, zum Nachdenken darüber anzuregen, wie wir eigentlich politisch Denken und wie wir uns unsere Urteile bilden. Wir möchten diesen ersten Schritt gemeinsam gehen, wissend, dass unsere gemeinsamen Gedanken und Analysen das Verständnis des Einzelnen bereichern.\nHinweis zur Teilnahme: Unsere Bildungsveranstaltungen richten sich speziell an unsere Parteimitglieder. Du möchtest auch teilnehmen? Mach mit bei der Linken und entdecke unser Bildungsangebot.\nZur Anmeldung
END:VEVENT
END:VCALENDAR