BEGIN:VCALENDAR
PRODID:-//DIELINKE/NONSGML News system (news)//DE
VERSION:2.0
BEGIN:VEVENT
UID:news-88084@www.die-linke.de
TZID:Europe/Berlin
DTSTAMP:20260422T091228Z
DTSTART;VALUE=DATE-TIME;TZID=Europe/Berlin:20260625T180000
DTEND;VALUE=DATE-TIME;TZID=Europe/Berlin:20260625T200000
SUMMARY:Einführung in das Denken von Rosa Luxemburg: Sozialreform & Revolution
DESCRIPTION:Modul: Basis
Pfeiler: Bildner*in\n\nFormat: Interaktiver Vortrag  mit  Diskussionsfragen zum Austausch im kleineren Rahmen. Der Fokus liegt auf einem gemeinsamen Verstehen, Diskutieren und Einordnen der Inhalte.\nInhalt: Rosa Luxemburgs Schriften sind eine unverzichtbare Grundlage für die Linke. Dieser Vortrag beleuchtet einige wichtige Beiträge zur Strategie sozialistischer Politik, aber auch ihr Leben für eine andere Welt. Oder wie Rosa Luxemburg formulierte: "Aber wir sind nicht verloren, und wir werden siegen, wenn wir zu lernen nicht verlernt haben." Diesem Anspruch wollen wir zusammen gerecht werden.\nHinweis zur Teilnahme: Unsere Bildungsveranstaltungen richten sich speziell an unsere Parteimitglieder. Du möchtest auch teilnehmen? Mach mit bei der Linken und entdecke unser Bildungsangebot.\nZur Anmeldung
END:VEVENT
END:VCALENDAR