BEGIN:VCALENDAR
PRODID:-//DIELINKE/NONSGML News system (news)//DE
VERSION:2.0
BEGIN:VEVENT
UID:news-88086@www.die-linke.de
TZID:Europe/Berlin
DTSTAMP:20260422T091119Z
DTSTART;VALUE=DATE-TIME;TZID=Europe/Berlin:20260702T180000
DTEND;VALUE=DATE-TIME;TZID=Europe/Berlin:20260702T200000
SUMMARY:Einführung in das Denken von Antonio Gramsci: Hegemonie verstehen
DESCRIPTION:Modul: Basis
Pfeiler: Bildner*in\n\nFormat: Interaktiver Vortrag  mit  Diskussionsfragen zum Austausch im kleineren Rahmen. Der Fokus liegt auf einem gemeinsamen Verstehen, Diskutieren und Einordnen der Inhalte.\nInhalt: Diese Einführung bietet eine Auseinandersetzung mit der politischen Theorie Antonio Gramscis, wobei die Analyse der kulturellen Hegemonie das theoretische Fundament bildet. Nach einer biographischen Einordnung liegt der Schwerpunkt auf der Begriffsarbeit, um die komplexen Kategorien des Gramscianischen Denkens  für linke Analysen von Macht und Gesellschaft verständlich zu machen\nHinweis zur Teilnahme: Unsere Bildungsveranstaltungen richten sich speziell an unsere Parteimitglieder. Du möchtest auch teilnehmen? Mach mit bei der Linken und entdecke unser Bildungsangebot.\nZur Anmeldung
END:VEVENT
END:VCALENDAR