BEGIN:VCALENDAR
PRODID:-//DIELINKE/NONSGML News system (news)//DE
VERSION:2.0
BEGIN:VEVENT
UID:news-88074@www.die-linke.de
TZID:Europe/Berlin
DTSTAMP:20260422T091157Z
DTSTART;VALUE=DATE-TIME;TZID=Europe/Berlin:20260630T180000
DTEND;VALUE=DATE-TIME;TZID=Europe/Berlin:20260630T200000
SUMMARY:Die Linke in die Schlagzeilen bringen: Pressearbeit für Fortgeschrittene
DESCRIPTION:Modul: Aufbau
Pfeiler: Aktivist*in\n\nVeranstaltungsbeschreibung folgt\nHinweis zur Teilnahme: Unsere Bildungsveranstaltungen richten sich speziell an unsere Parteimitglieder. Du möchtest auch teilnehmen? Mach mit bei der Linken und entdecke unser Bildungsangebot.\nZur Anmeldung
END:VEVENT
END:VCALENDAR