BEGIN:VCALENDAR
PRODID:-//DIELINKE/NONSGML News system (news)//DE
VERSION:2.0
BEGIN:VEVENT
UID:news-88090@www.die-linke.de
TZID:Europe/Berlin
DTSTAMP:20260422T094656Z
DTSTART;VALUE=DATE-TIME;TZID=Europe/Berlin:20260604T180000
DTEND;VALUE=DATE-TIME;TZID=Europe/Berlin:20260604T200000
SUMMARY:Detektivarbeit im Kopf: Einführung in die Logik
DESCRIPTION:Modul: Basis
Pfeiler: Bildner*in\n\nInhalt:\nUm die Welt zu verändern, braucht es neben Herz und Hand auch einen guten Verstand. Als wichtige Teildisziplin der Philosophie hilft uns die Logik dabei, Argumente systematisch zu prüfen und Denkfehler zu vermeiden. In dieser Einführung schauen wir uns an, wie logisches Schließen in der Praxis funktioniert – von den klassischen Grundregeln über die geschickte Verknüpfung von Aussagen bis hin zur präzisen Analyse von Sätzen. Vorwissen ist nicht nötig; wir erarbeiten uns diese Werkzeuge gemeinsam, um politische Diskussionen besser zu führen und die Welt zu verstehen.\nFormat:\nSeminar mit gemeinsamen Arbeitsphasen. Der Fokus liegt auf dem Verstehen und Einordnen der Inhalte.\nHinweis zur Teilnahme: Unsere Bildungsveranstaltungen richten sich speziell an unsere Parteimitglieder. Du möchtest auch teilnehmen? Mach mit bei der Linken und entdecke unser Bildungsangebot.\nZur Anmeldung
END:VEVENT
END:VCALENDAR