BEGIN:VCALENDAR
PRODID:-//DIELINKE/NONSGML News system (news)//DE
VERSION:2.0
BEGIN:VEVENT
UID:news-88089@www.die-linke.de
TZID:Europe/Berlin
DTSTAMP:20260422T091330Z
DTSTART;VALUE=DATE-TIME;TZID=Europe/Berlin:20260617T180000
DTEND;VALUE=DATE-TIME;TZID=Europe/Berlin:20260617T200000
SUMMARY:Der Kampf der Gegensätze: Klasse & Klassenkampf
DESCRIPTION:Modul: Basis
Pfeiler: Bildner*in\n\nFormat: Interaktiver Vortrag  mit Diskussionsfragen. Der Fokus liegt auf einem gemeinsamen Verstehen, Diskutieren und Einordnen der Inhalte.\nInhalt: „Die Geschichte aller bisherigen Gesellschaft ist die Geschichte von Klassenkämpfen.“ So eröffnen Marx und Engels nach der Einleitung das Kommunistische Manifest. Klasse, Klassenkampf, Geschichte – drei Begriffe, die eng miteinander verwoben sind und die Dynamik unserer Gesellschaften prägen. Doch was bedeuten sie wirklich? In diesem Vortrag begeben wir uns auf eine spannende Reise durch diese zwei Begriffe und analysieren die Triebkräfte des gesellschaftlichen Wandels. Wir werden uns mit den grundlegenden Definitionen von Klasse und Klassenkampf auseinandersetzen, die historischen Wendepunkte beleuchten und die Relevanz dieser Konzepte für die Analyse unserer heutigen Gesellschaft diskutieren.\nHinweis zur Teilnahme: Unsere Bildungsveranstaltungen richten sich speziell an unsere Parteimitglieder. Du möchtest auch teilnehmen? Mach mit bei der Linken und entdecke unser Bildungsangebot.\nZur Anmeldung
END:VEVENT
END:VCALENDAR