BEGIN:VCALENDAR
PRODID:-//DIELINKE/NONSGML News system (news)//DE
VERSION:2.0
BEGIN:VEVENT
UID:news-88077@www.die-linke.de
TZID:Europe/Berlin
DTSTAMP:20260422T091634Z
DTSTART;VALUE=DATE-TIME;TZID=Europe/Berlin:20260512T180000
DTEND;VALUE=DATE-TIME;TZID=Europe/Berlin:20260512T200000
SUMMARY:Demonstrations- und Versammlungsrecht für politisch Aktive
DESCRIPTION:Modul: Aufbau
Pfeiler: Aktivist*in\n\nInhalt:\nWer politisch aktiv ist und Proteste organisiert, sollte seine Spielräume genau kennen. In dieser kompakten Veranstaltung vermitteln wir das notwendige Wissen über die Anmeldung von Versammlungen, den rechtssicheren Umgang mit behördlichen Auflagen und das richtige Verhalten bei Polizeikontakten. Ihr lernt, wie ihr eure Grundrechte souverän wahrnehmt, rechtliche Fallstricke vermeidet und euch voll und ganz auf eure politische Botschaft konzentrieren könnt.\nHinweis zur Teilnahme: Unsere Bildungsveranstaltungen richten sich speziell an unsere Parteimitglieder. Du möchtest auch teilnehmen? Mach mit bei der Linken und entdecke unser Bildungsangebot.\nZur Anmeldung
END:VEVENT
END:VCALENDAR