BEGIN:VCALENDAR
PRODID:-//DIELINKE/NONSGML News system (news)//DE
VERSION:2.0
BEGIN:VEVENT
UID:news-88100@www.die-linke.de
TZID:Europe/Berlin
DTSTAMP:20260422T090802Z
DTSTART;VALUE=DATE-TIME;TZID=Europe/Berlin:20260730T180000
DTEND;VALUE=DATE-TIME;TZID=Europe/Berlin:20260730T200000
SUMMARY:„Das ist zu akademisch!“ Warum wir Wissenschaft brauchen, um politisch handlungsfähig zu werden – und wie wir dabei alle mitnehmen.
DESCRIPTION:Modul: Aufbau 
Pfeiler: Bildner*in\n\nFormat: Interaktiver Workshop mit kurzen Vorträgen, sowie Austausch- und Erarbeitungphasen in Kleingruppen (Break-out-Sessions).\nInhalt: Dieses Seminar widmet sich der häufig geäußerten Kritik an einer zu akademischen Politischen Bildung und hinterfragt das Spannungsfeld zwischen wissenschaftlicher Expertise und gesellschaftlicher Teilhabe. Im Zentrum steht die These, dass wissenschaftliche Erkenntnisse keine Hürde, sondern die notwendige Basis für politische Handlungsfähigkeit in einer komplexen Welt darstellt. Gemeinsam diskutieren wir Strategien, wie komplexe Fakten so übersetzt und vermittelt werden können, dass sie nicht ausschließen, sondern Brücken bauen und Menschen befähigen.\nHinweis zur Teilnahme: Unsere Bildungsveranstaltungen richten sich speziell an unsere Parteimitglieder. Du möchtest auch teilnehmen? Mach mit bei der Linken und entdecke unser Bildungsangebot.\nZur Anmeldung\n 
END:VEVENT
END:VCALENDAR