BEGIN:VCALENDAR
PRODID:-//DIELINKE/NONSGML News system (news)//DE
VERSION:2.0
BEGIN:VEVENT
UID:news-88094@www.die-linke.de
TZID:Europe/Berlin
DTSTAMP:20260422T091647Z
DTSTART;VALUE=DATE-TIME;TZID=Europe/Berlin:20260513T190000
DTEND;VALUE=DATE-TIME;TZID=Europe/Berlin:20260513T210000
SUMMARY:Alles wird teurer: Eine Einführung in die Ursachen der Inflation
DESCRIPTION:Modul: Basis
Pfeiler: Bildner*in\n\nInhalt:\nOb an der Tankstelle oder bei der Energierechnung: Dass das Geld in der Tasche der Lohnabhängigen immer weniger wert ist, ist kein technisches Versehen, sondern ein notwendiges Ergebnis der hiesigen Wirtschaftsordnung. Doch warum ist das eigentlich so? In dieser Veranstaltung gehen wir der Teuerung auf den Grund. Ziel ist es, die wirtschaftlichen Hintergründe zu verstehen, damit wir in der Diskussion um Preise nicht nur die Zeche zahlen, sondern mitreden können. Nur wenn wir wissen, wie diese wirtschaftlichen Entwicklungen zu Stande kommen, können wir auch gemeinsam etwas dagegen tun.\nFormat:\nInteraktiver Vortrag mit Diskussionsfragen. Der Fokus liegt auf einem gemeinsamen Verstehen, Diskutieren und Einordnen der Inhalte.\nHinweis zur Teilnahme: Unsere Bildungsveranstaltungen richten sich speziell an unsere Parteimitglieder. Du möchtest auch teilnehmen? Mach mit bei der Linken und entdecke unser Bildungsangebot.\nZur Anmeldung
END:VEVENT
END:VCALENDAR