BEGIN:VCALENDAR
PRODID:-//TYPO3/NONSGML News system (news)//EN
VERSION:2.0
BEGIN:VEVENT
UID:news-82202@www.die-linke.de
TZID:Europe/Berlin
DTSTAMP:20210422T074703Z
DTSTART;VALUE=DATE-TIME;TZID=Europe/Berlin:20210608T180000
SUMMARY:Menschen unter 30 - die unbekannten Wesen 
DESCRIPTION:Online-Workshop der Reihe "Super Tuesday"\n\nWie gewinnen wir junge Menschen und binden sie an die Partei? Diese Frage stellen wir uns insbesondere im Wahlkampf, aber auch in der täglichen Arbeit. Vielen Kreisverbänden fällt es schwer, junge Leute in den politischen Alltag zu integrieren und langfristig in aktive Mitglieder zu verwandeln. Wir wollen in diesem Workshop gemeinsam herausarbeiten, was politisches Engagement für junge Menschen bedeutet und wie DIE LINKE Menschen begeistert, die auf andere Arten als mit Lachweinemojis auf WhatsApp kommunizieren.\nReferent: Felix S. Schulz, Landessprecher linksjugend [&#039;solid] Berlin 
END:VEVENT
END:VCALENDAR