BEGIN:VCALENDAR
PRODID:-//TYPO3/NONSGML News system (news)//EN
VERSION:2.0
BEGIN:VEVENT
UID:news-81145@www.die-linke.de
TZID:Europe/Berlin
DTSTAMP:20210115T113113Z
DTSTART;VALUE=DATE-TIME;TZID=Europe/Berlin:20210209T180000
SUMMARY:Mapping – effizient den Wahlkreis analysieren
DESCRIPTION:Online-Workshop der Reihe "Super Tuesday"\n\nIn LINKEN Wahlkämpfen gilt oft die Devise: Viel hilft viel. Mit viel Aufwand und Energie versuchen wir, den gesamten Wahlkreis mit Aktionen und Material abzudecken. Aber ist das sinnvoll und effektiv? An diesem Super Tuesday beschäftigen wir uns mit der Analyse des eigenen Wahlkreises, damit wir unsere Ressourcen im Wahlkampf so effizient wie möglich einsetzen. Wo wohnt unsere Wählerschaft? Wo gibt es viel Potenzial für Stimmengewinn – und warum? Welche Menschen leben dort? Zusammen schauen wir uns an, wie man seinen Wahlkreis mappen kann und probieren es selbst einmal aus.\nReferent*innen: Inva Halili und Martin Neise (DIE LINKE BGSt)\nweitere Informationen | zur Anmeldung
END:VEVENT
END:VCALENDAR