BEGIN:VCALENDAR
PRODID:-//TYPO3/NONSGML News system (news)//EN
VERSION:2.0
BEGIN:VEVENT
UID:news-81155@www.die-linke.de
TZID:Europe/Berlin
DTSTAMP:20210322T090708Z
DTSTART;VALUE=DATE-TIME;TZID=Europe/Berlin:20210406T110000
SUMMARY:Linke Internetseiten
DESCRIPTION:Online-Workshop der Reihe "Super Tuesday"\n\nAuch wenn ein großer Teil der digitalen Kommunikation zu den &quot;sozialen&quot; Medien gewandert ist, hat das klassische Internet keineswegs an Bedeutung verloren In dieser Veranstaltung geht es um die Funktion, die die Websites der Gliederungen haben (sollten) und um  die Möglichkeiten und Grenzen des Linken CMS. | zur Anmeldung
END:VEVENT
END:VCALENDAR