BEGIN:VCALENDAR
PRODID:-//TYPO3/NONSGML News system (news)//EN
VERSION:2.0
BEGIN:VEVENT
UID:news-81164@www.die-linke.de
TZID:Europe/Berlin
DTSTAMP:20210422T073623Z
DTSTART;VALUE=DATE-TIME;TZID=Europe/Berlin:20210727T180000
SUMMARY:Lassen Sie mich durch, ich bin Kandidat*in! – mit Erwartungen umgehen lernen
DESCRIPTION:Online-Workshop der Reihe "Super Tuesday"\n\nSich für die Wahlen aufstellen zu lassen, kann aufregend und aufreibend sein: Wofür mache ich das? Welche politischen Ziele will ich mit meinen Mitstreiter*innen verfolgen? Wen aus meinem Umkreis kann ich fürs Wahlkampfteam gewinnen? Was erwarten die Wähler*innen und die Genoss*innen von mir, und was ich selbst? An diesem Super Tuesday wird es viel um Erwartungen gehen, und darum, wie du produktiv und rücksichtsvoll mit ihnen umgehen kannst.\nReferent: Torsten Hesse (Landesverband Berlin)\nweitere Informationen | zur Anmeldung
END:VEVENT
END:VCALENDAR