BEGIN:VCALENDAR
PRODID:-//TYPO3/NONSGML News system (news)//EN
VERSION:2.0
BEGIN:VEVENT
UID:news-81141@www.die-linke.de
TZID:Europe/Berlin
DTSTAMP:20210106T114906Z
DTSTART;VALUE=DATE-TIME;TZID=Europe/Berlin:20210119T200000
SUMMARY:Lass uns reden! Einwänden gegen unser Programm begegnen
DESCRIPTION:Online-Workshop der Reihe "Super Tuesday"\n\nUnser Wahlprogramm ist gut. Das wissen wir. Doch zuweilen gibt es von anderen Fragen, Einwände, auch Kritik. Manch Argument hat Hand und Fuß, anderes sind hartnäckige Vorurteile. Auch wir selbst fühlen uns beim ein oder anderen Thema vielleicht noch unsicher. Ob im Bekanntenkreis, am Infostand oder auf einer Podiumsdiskussion: In diesem Workshop sammeln wir die häufigsten Einwände gegen DIE LINKE und unser Programm. Wir üben, mit kritischen Fragen umzugehen, auf Begründetes einzugehen und Falsches zu kontern.\nReferentin: Sophie Dieckmann (DIE LINKE BGSt)\nweitere Informationen | zur Anmeldung
END:VEVENT
END:VCALENDAR