BEGIN:VCALENDAR
PRODID:-//TYPO3/NONSGML News system (news)//EN
VERSION:2.0
BEGIN:VEVENT
UID:news-81144@www.die-linke.de
TZID:Europe/Berlin
DTSTAMP:20210106T114725Z
DTSTART;VALUE=DATE-TIME;TZID=Europe/Berlin:20210216T200000
SUMMARY:Kurz und bündig: auf den Punkt sprechen
DESCRIPTION:Online-Workshop der Reihe "Super Tuesday"\n\nWer ein Radiointerview gibt oder auf dem Podium sitzt, darf nicht lange um den heißen Brei herumreden. Komplexe Inhalte kurz und bündig rüberzubringen, ist kein Kinderspiel. Aber man kann es lernen. Zusammen üben wir, wie man pointiert formuliert, sich aufs Wesentliche beschränkt und Botschaften treffsicher an die Wählerin und den Wähler bringt.\nReferentinnen: Sophie Dieckmann und Anne Steckner (DIE LINKE BGSt)\nweitere Informationen | zur Anmeldung
END:VEVENT
END:VCALENDAR