BEGIN:VCALENDAR
PRODID:-//TYPO3/NONSGML News system (news)//EN
VERSION:2.0
BEGIN:VEVENT
UID:news-81143@www.die-linke.de
TZID:Europe/Berlin
DTSTAMP:20210106T114713Z
DTSTART;VALUE=DATE-TIME;TZID=Europe/Berlin:20210223T180000
SUMMARY:Kommunikation ist mehr als Reden: gute Gesprächsführung
DESCRIPTION:Online-Workshop der Reihe "Super Tuesday"\n\nWir sind oft schnell dabei, interessierten Gesprächspartnern oder kritischen Kommentaren mit guten Argumenten zu begegnen. Dabei stehen die diskutierten Inhalte im Vordergrund. Das ist sinnvoll und wichtig, aber nicht immer allein hilfreich. Zu einem guten Gespräch gehört ebenso ein Gespür für das Gegenüber und für die Situation, sowie die Fähigkeit zuzuhören und Fragen zu stellen. Auch Körpersprache und Emotionen sind Teil von Kommunikation. In praktischen Sequenzen üben wir Gespräche, bei denen all diese Fähigkeiten gefragt sind.\nReferentin: Anne Steckner (DIE LINKE BGSt)\nweitere Informationen | zur Anmeldung
END:VEVENT
END:VCALENDAR